BEGIN:VCALENDAR
VERSION:2.0
PRODID:gruene-oberpfalz.de
METHOD:PUBLISH
BEGIN:VTIMEZONE
TZID:Europe/Berlin
X-LIC-LOCATION:Europe/Berlin
BEGIN:DAYLIGHT
TZOFFSETFROM:+0100
TZOFFSETTO:+0200
TZNAME:CEST
DTSTART:19700329T020000
RRULE:FREQ=YEARLY;INTERVAL=1;BYDAY=-1SU;BYMONTH=3
END:DAYLIGHT
BEGIN:STANDARD
TZOFFSETFROM:+0200
TZOFFSETTO:+0100
TZNAME:CET
DTSTART:19701025T030000
RRULE:FREQ=YEARLY;INTERVAL=1;BYDAY=-1SU;BYMONTH=10
END:STANDARD
END:VTIMEZONE
BEGIN:VEVENT
UID:d31994c72747a81417ab21fb3a4c3c94@gruene-oberpfalz.de
URL;VALUE=URI:https://gruene-oberpfalz.de/termine/ldk-2026/
LOCATION:Landshut
SUMMARY:LDK 2026 in Landshut
DESCRIPTION;ALTREP="data:text/html,%0A%3Cp%3ESave%20the%20Date.%3C%2Fp%3E
 %0A%0A%0A%0A%3Cp%3EInfos%20folgen.%3C%2Fp%3E%0A%0A%0A%0A%3Cp%3E%3C%2Fp%3E
 %0A":Save the Date.\n\nInfos folgen.
CLASS:PUBLIC
DTSTART;TZID=Europe/Berlin:20261010
DTEND;TZID=Europe/Berlin:20261012
DTSTAMP:20260420T044054
END:VEVENT
END:VCALENDAR