BEGIN:VCALENDAR
VERSION:2.0
PRODID:gruene-oberpfalz.de
METHOD:PUBLISH
BEGIN:VTIMEZONE
TZID:Europe/Berlin
X-LIC-LOCATION:Europe/Berlin
BEGIN:DAYLIGHT
TZOFFSETFROM:+0100
TZOFFSETTO:+0200
TZNAME:CEST
DTSTART:19700329T020000
RRULE:FREQ=YEARLY;INTERVAL=1;BYDAY=-1SU;BYMONTH=3
END:DAYLIGHT
BEGIN:STANDARD
TZOFFSETFROM:+0200
TZOFFSETTO:+0100
TZNAME:CET
DTSTART:19701025T030000
RRULE:FREQ=YEARLY;INTERVAL=1;BYDAY=-1SU;BYMONTH=10
END:STANDARD
END:VTIMEZONE
BEGIN:VEVENT
UID:36a9467731e22130509c0fb259a66ef6@gruene-oberpfalz.de
URL;VALUE=URI:https://gruene-oberpfalz.de/termine/csd-cham-2025-cham-prid
 e-2025/
LOCATION:Cham
SUMMARY:CSD Cham 2025 / Cham Pride 2025
DESCRIPTION;ALTREP="data:text/html,%0A%3Cp%3EMit%20den%20Christopher%20St
 reet%20Days%20%28CSD%29%20setzen%20wir%20ein%20starkes%20Zeichen%20f%C3%B
 Cr%20die%20Rechte%20und%20Sichtbarkeit%20von%20LGBTIQ%2A-Personen.%20Der%
 20CSD%20ist%20ein%20Anlass%2C%20queere%20Vielfalt%20zu%20feiern%20%E2%80%
 93%20und%20gleichzeitig%20auf%20Diskriminierung%2C%20Ungleichheit%20und%2
 0den%20wachsenden%20Druck%20auf%20queere%20Communities%20in%20Europa%20un
 d%20weltweit%20aufmerksam%20zu%20machen.%3C%2Fp%3E%0A%0A%0A%0A%3Cp%3ESeid
 %20am%20%3Cstrong%3E13.%20September%3C%2Fstrong%3E%20beim%20%3Cstrong%3EC
 SD%20in%20Cham%3C%2Fstrong%3E%20dabei%20und%20lasst%20uns%20gemeinsam%20l
 aut%2C%20bunt%20und%20solidarisch%20f%C3%BCr%20Gleichberechtigung%20und%2
 0Menschenrechte%20auf%20die%20Stra%C3%9Fe%20gehen%21%20%F0%9F%8C%88%3C%2F
 p%3E%0A%0A%0A%0A%3Cp%3E%F0%9F%92%9A%20%3Cstrong%3ETipp%3A%3C%2Fstrong%3E%
 20Der%20Landesverband%20versorgt%20euch%20zus%C3%A4tzlich%20mit%20einem%2
 0eigenen%20Sticker%2C%20den%20ihr%20auch%20ganz%20unkompliziert%20%3Cstro
 ng%3E%C3%BCber%20den%20eShop%3C%2Fstrong%3E%20bestellen%20k%C3%B6nnt%20%E
 2%80%93%20und%20das%20komplett%20kostenfrei%21%20Der%20Link%20zum%20Beste
 llen%20wird%20in%20K%C3%BCrze%20%3Ca%20href%3D%22https%3A%2F%2Fnetz.gruen
 e.de%2Fde%2Fwissenswerk%2F2025-05%2Fcsd-saison-2025-bayern%22%3Ehier%20%3
 C%2Fa%3Ever%C3%B6ffentlicht.%3C%2Fp%3E%0A%0A%0A%0A%3Cp%3E%3C%2Fp%3E%0A":M
 it den Christopher Street Days (CSD) setzen wir ein starkes Zeichen für 
 die Rechte und Sichtbarkeit von LGBTIQ*-Personen. Der CSD ist ein Anlass\
 , queere Vielfalt zu feiern – und gleichzeitig auf Diskriminierung\, Un
 gleichheit und den wachsenden Druck auf queere Communities in Europa und 
 weltweit aufmerksam zu machen.\n\nSeid am 13. September beim CSD in Cham 
 dabei und lasst uns gemeinsam laut\, bunt und solidarisch für Gleichbere
 chtigung und Menschenrechte auf die Straße gehen! 🌈\n\n💚 Tipp: Der
  Landesverband versorgt euch zusätzlich mit einem eigenen Sticker\, den 
 ihr auch ganz unkompliziert über den eShop bestellen könnt – und das 
 komplett kostenfrei! Der Link zum Bestellen wird in Kürze hier veröffen
 tlicht.
CLASS:PUBLIC
DTSTART;TZID=Europe/Berlin:20250913
DTEND;TZID=Europe/Berlin:20250914
DTSTAMP:20260420T095134
END:VEVENT
END:VCALENDAR