BEGIN:VCALENDAR
VERSION:2.0
PRODID:gruene-oberpfalz.de
METHOD:PUBLISH
BEGIN:VTIMEZONE
TZID:Europe/Berlin
X-LIC-LOCATION:Europe/Berlin
BEGIN:DAYLIGHT
TZOFFSETFROM:+0100
TZOFFSETTO:+0200
TZNAME:CEST
DTSTART:19700329T020000
RRULE:FREQ=YEARLY;INTERVAL=1;BYDAY=-1SU;BYMONTH=3
END:DAYLIGHT
BEGIN:STANDARD
TZOFFSETFROM:+0200
TZOFFSETTO:+0100
TZNAME:CET
DTSTART:19701025T030000
RRULE:FREQ=YEARLY;INTERVAL=1;BYDAY=-1SU;BYMONTH=10
END:STANDARD
END:VTIMEZONE
BEGIN:VEVENT
UID:fa262f69a18fa57c47070f9a04412156@gruene-oberpfalz.de
URL;VALUE=URI:https://gruene-oberpfalz.de/termine/bewegender-strom-barbin
 g-2/
LOCATION:Agendaräume, 1. OG über Bücherei Barbing, Kirchstraße 3, 930
 92 Barbing
SUMMARY:Bewegender Strom, Barbing
DESCRIPTION;ALTREP="data:text/html,%0A%3Cp%3E%3Cem%3EEinblicke%20in%20den
 %20Stand%20von%20Forschung%20und%20Praxis%20der%20Elektromobilit%C3%A4t%3
 C%2Fem%3E%3C%2Fp%3E%0A%0A%0A%0A%3Cp%3EElektromobilit%C3%A4t%20bewegt%20%E
 2%80%93%20und%20wir%20bewegen%20mit%3A%20Basierend%20auf%2014%20Jahren%20
 Forschung%20in%20Regensburg%20und%20vielen%20tausend%20Kilometern%20Praxi
 serfahrung%20%E2%80%93%20mit%20dem%20E-Auto%20und%20Anh%C3%A4nger%20quer%
 20durch%20Europa%2C%20von%20Kiel%20bis%20Slowenien%20%E2%80%93%20gibt%26n
 bsp%3B%3Cem%3EMartin%20Br%C3%BCll%3C%2Fem%3E%26nbsp%3Bam%26nbsp%3B%3Cem%3
 EDonnerstag%2C%2023.%26nbsp%3B%3C%2Fem%3EApril%20spannende%20Einblicke%20
 in%20die%20Technik%2C%20teilt%20seine%20ehrlichen%20Erfahrungen%20und%20g
 ibt%20verst%C3%A4ndliche%20Antworten%20auf%20h%C3%A4ufige%20Fragen%20und%
 20Vorbehalte.%20Ideal%20f%C3%BCr%20alle%2C%20die%20beim%20Thema%20E-Auto%
 20noch%20z%C3%B6gern%20oder%20Orientierung%20suchen.%3C%2Fp%3E%0A%0A%0A%0
 A%3Cp%3EDonnerstag%2C%2023.%20April%202026%2C%2019%20Uhr%2C%20Agendaraum%
 2C%201.%20OG%20%C3%BCber%20der%20B%C3%BCcherei%20Barbing%2C%20Kirchstra%C
 3%9Fe%203%2C%2093092%20Barbing.%3C%2Fp%3E%0A%0A%0A%0A%3Cp%3EMehr%20Inform
 ation%20unter%3A%26nbsp%3B%3Ca%20href%3D%22https%3A%2F%2Fgruene-barbing.d
 e%2Ftermine%2Fbewegender-strom%2F%22%3Ehttps%3A%2F%2Fgruene-barbing.de%2F
 termine%2Fbewegender-strom%2F%3C%2Fa%3E%3C%2Fp%3E%0A":Einblicke in den St
 and von Forschung und Praxis der Elektromobilität\n\nElektromobilität b
 ewegt – und wir bewegen mit: Basierend auf 14 Jahren Forschung in Regen
 sburg und vielen tausend Kilometern Praxiserfahrung – mit dem E-Auto un
 d Anhänger quer durch Europa\, von Kiel bis Slowenien – gibt Martin B
 rüll am Donnerstag\, 23. April spannende Einblicke in die Technik\, t
 eilt seine ehrlichen Erfahrungen und gibt verständliche Antworten auf h
 äufige Fragen und Vorbehalte. Ideal für alle\, die beim Thema E-Auto no
 ch zögern oder Orientierung suchen.\n\nDonnerstag\, 23. April 2026\, 19 
 Uhr\, Agendaraum\, 1. OG über der Bücherei Barbing\, Kirchstraße 3\, 9
 3092 Barbing.\n\nMehr Information unter: https://gruene-barbing.de/termi
 ne/bewegender-strom/
CLASS:PUBLIC
DTSTART;TZID=Europe/Berlin:20260423T190000
DTEND;TZID=Europe/Berlin:20260423T210000
DTSTAMP:20260420T031011
END:VEVENT
END:VCALENDAR