BEGIN:VCALENDAR
VERSION:2.0
PRODID:gruene-oberpfalz.de
METHOD:PUBLISH
BEGIN:VTIMEZONE
TZID:Europe/Berlin
X-LIC-LOCATION:Europe/Berlin
BEGIN:DAYLIGHT
TZOFFSETFROM:+0100
TZOFFSETTO:+0200
TZNAME:CEST
DTSTART:19700329T020000
RRULE:FREQ=YEARLY;INTERVAL=1;BYDAY=-1SU;BYMONTH=3
END:DAYLIGHT
BEGIN:STANDARD
TZOFFSETFROM:+0200
TZOFFSETTO:+0100
TZNAME:CET
DTSTART:19701025T030000
RRULE:FREQ=YEARLY;INTERVAL=1;BYDAY=-1SU;BYMONTH=10
END:STANDARD
END:VTIMEZONE
BEGIN:VEVENT
UID:330e20b2fdf084d5654a9f0d99a4faaf@gruene-oberpfalz.de
URL;VALUE=URI:https://gruene-oberpfalz.de/termine/40-gribs-kommunalkongre
 ss-2026/
LOCATION:Karl-Bröger-Zentrum, Nürnberg
SUMMARY:40. GRIBS Kommunalkongress 2026
DESCRIPTION;ALTREP="data:text/html,%0A%3Cp%3E%3Cstrong%3EWir%20starten%20
 durch%3A%20Fit%20f%C3%BCr%20die%20neue%20Amtszeit%21%3C%2Fstrong%3E%3C%2F
 p%3E%0A%0A%0A%0A%3Cp%3EJetzt%20anmelden%3A%20%3Ca%20href%3D%22https%3A%2F
 %2Fwww.gribs.net%2Fpublic%2Fmenu%2F3%2Fpost%2F1%2F950%2F2872%22%3Ehttps%3
 A%2F%2Fwww.gribs.net%2Fpublic%2Fmenu%2F3%2Fpost%2F1%2F950%2F2872%3C%2Fa%3
 E%3C%2Fp%3E%0A%0A%0A%0A%3Cp%3EGeschafft%21%20Wahl%20und%20Konstituierung%
 20liegen%20hinter%20euch%20%E2%80%93%20jetzt%20geht%20es%20richtig%20los%
 20in%20eurer%20Kommune%21%20Mit%20guten%20Ideen%2C%20Sachverstand%20und%2
 0Motivation%20k%C3%B6nnt%20ihr%20in%20den%20n%C3%A4chsten%20sechs%20Jahre
 n%20gemeinsam%20vor%20Ort%20viel%20bewegen.%20Unser%20GRIBS%20Kongress%20
 macht%20euch%20fit%20f%C3%BCr%20die%20neue%20Amtszeit%3A%20Eine%20gelunge
 ne%20Zusammenarbeit%20geh%C3%B6rt%20genauso%20dazu%20wie%20zielgerichtete
 s%20Vorgehen%2C%20gutes%20Selbstmanagement%20genauso%20wie%20die%20rechtl
 iche%20Basis.%20Ihr%20bekommt%20Wissen%2C%20Werkzeuge%20und%20Anregungen%
 20an%20die%20Hand.%20F%C3%BCr%20alle%20ist%20was%20dabei%20%E2%80%93%20eg
 al%20ob%20neu%20gew%C3%A4hlt%20oder%20erfahren%2C%20ob%20Einzelk%C3%A4mpf
 er%2Ain%20oder%20regierende%20Fraktion%20mit%20B%C3%BCrgermeister%2Ain%21
 %3C%2Fp%3E%0A%0A%0A%0A%3Cp%3EAls%20GRIBS%20sind%20wir%20das%20gr%C3%BCne%
 20kommunalpolitische%20Netzwerk%20in%20Bayern.%20Nutzt%20den%20Kongress%2
 C%20kn%C3%BCpft%20neue%20Kontakte%20und%20trefft%20alte%20Bekannte.%20Las
 st%20uns%20gemeinsam%20die%20Wahl%20feiern%20-%20und%20auf%20unseren%2040
 .%20Kongress%20ansto%C3%9Fen%21%20Freut%20euch%20auf%20frische%20Ideen%2C
 %20kompetente%20Referent%2Ainnen%20und%20auf%20viel%20Austausch%20und%20V
 ernetzung.%20Herzliche%20Einladung%20an%20alle%2C%20die%20gute%2C%20erfol
 greiche%20Kommunalpolitik%20machen%20wollen%20-%20egal%20ob%20mit%20oder%
 20ohne%20Mandat%21%3C%2Fp%3E%0A%0A%0A%0A%3Cp%3E%3Cstrong%3EAuch%20dieses%
 20Jahr%20wieder%20mit%20spannenden%20G%C3%A4sten%20und%20Referent%2Ainnen
 %2C%20u.a.%3A%3C%2Fstrong%3E%3Cbr%3E%3Cbr%3E%3Cstrong%3E%E2%80%A2%20Alex%
 20Maier%2C%3C%2Fstrong%3E%26nbsp%3BOberb%C3%BCrgermeister%20der%20Stadt%2
 0G%C3%B6ppingen%2C%20der%20zeigt%2C%20was%20alles%20geht%20und%20wie%20es
 %20gehen%20kann%3C%2Fp%3E%0A%0A%0A%0A%3Cp%3E%3Cstrong%3E%E2%80%A2%20Nicol
 e%20Lorenz%3C%2Fstrong%3E%2C%20Coach%20und%20Teambilding-Expertin%2C%20gr
 %C3%BCne%20Gemeindr%C3%A4tin%20und%20Kreisvorsitzende%2C%20die%20wei%C3%9
 F%2C%20wie%20gute%20Zusammenarbeit%20gelingen%20kann%3C%2Fp%3E%0A%0A%0A%0
 A%3Cp%3E%3Cstrong%3E%E2%80%A2%20Benedikt%20D%C3%B6llmann%2C%3C%2Fstrong%3
 E%26nbsp%3BGr%C3%BCner%20Stadtrat%20aus%20T%C3%BCbingen%2C%20der%20mit%20
 seinem%20Insta-Account%20Kommunalpolitik%20wieder%20cool%20macht%3C%2Fp%3
 E%0A%0A%0A%0A%3Cp%3E%3Cstrong%3E%E2%80%A2%20Andrea%20Matt%3C%2Fstrong%3E%
 26nbsp%3Bvon%20Starke%20Demokratie%20e.V.%2C%20die%20uns%20stark%20macht%
 20f%C3%BCr%20den%20Umgang%20mit%20Anfeindungen%20und%20Respektlosigkeit%3
 C%2Fp%3E%0A%0A%0A%0A%3Cp%3Eund%3C%2Fp%3E%0A%0A%0A%0A%3Cul%20class%3D%22wp
 -block-list%22%3E%0A%3Cli%3Emit%20einer%20Vielzahl%20an%20weiteren%20Work
 shops%20-%20vom%20rechtlichen%20Grundlagen%20ABC%20%C3%BCber%20Know%20How
 %20f%C3%BCr%20Fraktionsvorsitzende%20und%202.%20und%203.%20BGMs%20bis%20z
 um%20pers%C3%B6nlichen%20Zeitmanagement%20und%20zum%20mutigen%20Auftritt%
 20f%C3%BCr%20Frauen.%3C%2Fli%3E%0A%0A%0A%0A%3Cli%3Emit%20gezielten%20Aust
 auschformaten%20u.a.%20f%C3%BCr%20junge%20R%C3%A4t%2Ainnen%2C%20R%C3%A4t%
 2Ainnen%20mit%20Vielfaltsmerkmalen%2C%20Eltern%20im%20Rat%2C%20Einzelk%C3
 %A4mpfer%2Ainnen%2C%20Regierungs-Gr%C3%BCne%20....%3C%2Fli%3E%0A%0A%0A%0A
 %3Cli%3Eund%20nat%C3%BCrlich%20starten%20wir%20vorab%20wieder%20mit%20ein
 er%20Exkursion%2C%20dieses%20Mal%20%C3%BCber%20das%20Reichsparteitagsgel%
 C3%A4nde%2C%20wo%20wir%20uns%20auch%20die%20Zwischennutzungsst%C3%A4tte%2
 0der%20N%C3%BCrnberger%20Oper%2C%20die%20Kongresshalle%2C%20genauer%20ans
 chauen%20werden.%3C%2Fli%3E%0A%3C%2Ful%3E%0A%0A%0A%0A%3Cdiv%20data-wp-int
 eractive%3D%22core%2Ffile%22%20class%3D%22wp-block-file%22%3E%3Cobject%20
 data-wp-bind--hidden%3D%22%21state.hasPdfPreview%22%20hidden%20class%3D%2
 2wp-block-file__embed%22%20data%3D%22https%3A%2F%2Fgruene-oberpfalz.de%2F
 wp-content%2Fuploads%2Fsites%2F2%2F2026%2F04%2FFlyer_Kongress2026_RZ.pdf%
 22%20type%3D%22application%2Fpdf%22%20style%3D%22width%3A100%25%3Bheight%
 3A600px%22%20aria-label%3D%22Einbettung%20von%20Flyer_Kongress2026_RZ.%22
 %3E%3C%2Fobject%3E%3Ca%20id%3D%22wp-block-file--media-a79e6ba4-4b9d-42ff-
 89f6-27662f108c4d%22%20href%3D%22https%3A%2F%2Fgruene-oberpfalz.de%2Fwp-c
 ontent%2Fuploads%2Fsites%2F2%2F2026%2F04%2FFlyer_Kongress2026_RZ.pdf%22%3
 EFlyer_Kongress2026_RZ%3C%2Fa%3E%3Ca%20href%3D%22https%3A%2F%2Fgruene-obe
 rpfalz.de%2Fwp-content%2Fuploads%2Fsites%2F2%2F2026%2F04%2FFlyer_Kongress
 2026_RZ.pdf%22%20class%3D%22wp-block-file__button%20wp-element-button%22%
 20download%20aria-describedby%3D%22wp-block-file--media-a79e6ba4-4b9d-42f
 f-89f6-27662f108c4d%22%3EHerunterladen%3C%2Fa%3E%3C%2Fdiv%3E%0A":Wir star
 ten durch: Fit für die neue Amtszeit!\n\nJetzt anmelden: https://www.gri
 bs.net/public/menu/3/post/1/950/2872\n\nGeschafft! Wahl und Konstituierun
 g liegen hinter euch – jetzt geht es richtig los in eurer Kommune! Mit 
 guten Ideen\, Sachverstand und Motivation könnt ihr in den nächsten sec
 hs Jahren gemeinsam vor Ort viel bewegen. Unser GRIBS Kongress macht euch
  fit für die neue Amtszeit: Eine gelungene Zusammenarbeit gehört genaus
 o dazu wie zielgerichtetes Vorgehen\, gutes Selbstmanagement genauso wie 
 die rechtliche Basis. Ihr bekommt Wissen\, Werkzeuge und Anregungen an di
 e Hand. Für alle ist was dabei – egal ob neu gewählt oder erfahren\, 
 ob Einzelkämpfer*in oder regierende Fraktion mit Bürgermeister*in!\n\nA
 ls GRIBS sind wir das grüne kommunalpolitische Netzwerk in Bayern. Nutzt
  den Kongress\, knüpft neue Kontakte und trefft alte Bekannte. Lasst uns
  gemeinsam die Wahl feiern - und auf unseren 40. Kongress anstoßen! Freu
 t euch auf frische Ideen\, kompetente Referent*innen und auf viel Austaus
 ch und Vernetzung. Herzliche Einladung an alle\, die gute\, erfolgreiche 
 Kommunalpolitik machen wollen - egal ob mit oder ohne Mandat!\n\nAuch die
 ses Jahr wieder mit spannenden Gästen und Referent*innen\, u.a.:• Alex
  Maier\, Oberbürgermeister der Stadt Göppingen\, der zeigt\, was alles
  geht und wie es gehen kann\n\n• Nicole Lorenz\, Coach und Teambilding-
 Expertin\, grüne Gemeindrätin und Kreisvorsitzende\, die weiß\, wie gu
 te Zusammenarbeit gelingen kann\n\n• Benedikt Döllmann\, Grüner Stad
 trat aus Tübingen\, der mit seinem Insta-Account Kommunalpolitik wieder 
 cool macht\n\n• Andrea Matt von Starke Demokratie e.V.\, die uns stark
  macht für den Umgang mit Anfeindungen und Respektlosigkeit\n\nund\n\nmi
 t einer Vielzahl an weiteren Workshops - vom rechtlichen Grundlagen ABC 
 über Know How für Fraktionsvorsitzende und 2. und 3. BGMs bis zum pers
 önlichen Zeitmanagement und zum mutigen Auftritt für Frauen.\n\nmit gez
 ielten Austauschformaten u.a. für junge Rät*innen\, Rät*innen mit Viel
 faltsmerkmalen\, Eltern im Rat\, Einzelkämpfer*innen\, Regierungs-Grüne
  ....\n\nund natürlich starten wir vorab wieder mit einer Exkursion\, di
 eses Mal über das Reichsparteitagsgelände\, wo wir uns auch die Zwische
 nnutzungsstätte der Nürnberger Oper\, die Kongresshalle\, genauer ansch
 auen werden.\n\nFlyer_Kongress2026_RZHerunterladen
CLASS:PUBLIC
DTSTART;TZID=Europe/Berlin:20260515T000000
DTEND;TZID=Europe/Berlin:20260516T000000
DTSTAMP:20260424T141152
END:VEVENT
END:VCALENDAR