BEGIN:VCALENDAR
VERSION:2.0
PRODID:gruene-oberpfalz.de
METHOD:PUBLISH
BEGIN:VTIMEZONE
TZID:Europe/Berlin
X-LIC-LOCATION:Europe/Berlin
BEGIN:DAYLIGHT
TZOFFSETFROM:+0100
TZOFFSETTO:+0200
TZNAME:CEST
DTSTART:19700329T020000
RRULE:FREQ=YEARLY;INTERVAL=1;BYDAY=-1SU;BYMONTH=3
END:DAYLIGHT
BEGIN:STANDARD
TZOFFSETFROM:+0200
TZOFFSETTO:+0100
TZNAME:CET
DTSTART:19701025T030000
RRULE:FREQ=YEARLY;INTERVAL=1;BYDAY=-1SU;BYMONTH=10
END:STANDARD
END:VTIMEZONE
BEGIN:VEVENT
UID:529d7679a5ec3bb973c5f16219318f39@gruene-oberpfalz.de
URL;VALUE=URI:https://gruene-oberpfalz.de/termine/10204/
LOCATION:KZ-Gedenkstätte Flossenbürg, Gedächtnisallee 5, Flossenbürg
SUMMARY:Besuch der KZ-Gedenkstätte Flossenbürg mit dem KV Weiden
DESCRIPTION;ALTREP="data:text/html,%0A%3Cp%3EDer%20Kreisverband%20Weiden%
 20plant%20f%C3%BCr%208.%20September%202025%20einen%20Besuch%20in%20der%20
 KZ-Gedenkst%C3%A4tte%20Flossenb%C3%BCrg.%20Wir%20bekommen%20eine%20F%C3%B
 Chrung%20durch%20die%20Anlage%2C%20die%20ca.%20zwei%20Stunden%20dauert.%2
 0Beginn%20ist%20um%2014%3A30%20Uhr.%3C%2Fp%3E%0A%0A%0A%0A%3Cp%3EDie%20Ged
 enkst%C3%A4tte%20bem%C3%BCht%20sich%20seit%20Jahren%20um%20tragf%C3%A4hig
 e%20Konzepte%2C%20die%20helfen%20sollen%2C%20die%20Erinnerungsarbeit%20au
 ch%20dann%20bestm%C3%B6glich%20fortzuf%C3%BChren%2C%20wenn%20keine%20und%
 20keiner%20der%20einstigen%20H%C3%A4ftlinge%20mehr%20am%20Leben%20sein%20
 wird.%20Bei%20der%20F%C3%BChrung%20durch%20die%20Anlage%20wird%20es%20auc
 h%20um%20dieses%20Thema%20gehen.%26nbsp%3B%3C%2Fp%3E%0A%0A%0A%0A%3Cp%3EIh
 r%20seid%20alle%20herzlich%20eingeladen%2C%20bringt%20gern%20auch%20inter
 essierte%20Freundinnen%20und%20Freunde%20mit.%3C%2Fp%3E%0A%0A%0A%0A%3Cp%3
 E%C2%A0%3Cstrong%3EWICHTIG%3C%2Fstrong%3E%3A%20Da%20die%20Gedenkst%C3%A4t
 te%20planen%20muss%2C%20wie%20gro%C3%9F%20die%20Gruppe%20wird%20und%20ob%
 20wir%20einen%20oder%20zwei%20F%C3%BChrer%2Ainnen%20brauchen%2C%20ist%20e
 ine%C2%A0%3Cstrong%3EAnmeldung%20zwingend%20erforderlich%3C%2Fstrong%3E.%
 C2%A0%3C%2Fp%3E%0A%0A%0A%0A%3Cp%3EBitte%20meldet%20euch%20bis%20sp%C3%A4t
 estens%2020.08.25%20unter%C2%A0%3Ca%20href%3D%22https%3A%2F%2Fgruene-weid
 en.de%2Ftermine%2Fbesuch-der-kz-gedenkstaette-flossenbuerg%2F%23%22%3Einf
 o%40gruene-weiden.de%3C%2Fa%3E.%3C%2Fp%3E%0A":Der Kreisverband Weiden pla
 nt für 8. September 2025 einen Besuch in der KZ-Gedenkstätte Flossenbü
 rg. Wir bekommen eine Führung durch die Anlage\, die ca. zwei Stunden da
 uert. Beginn ist um 14:30 Uhr.\n\nDie Gedenkstätte bemüht sich seit Jah
 ren um tragfähige Konzepte\, die helfen sollen\, die Erinnerungsarbeit a
 uch dann bestmöglich fortzuführen\, wenn keine und keiner der einstigen
  Häftlinge mehr am Leben sein wird. Bei der Führung durch die Anlage wi
 rd es auch um dieses Thema gehen. \n\nIhr seid alle herzlich eingeladen\
 , bringt gern auch interessierte Freundinnen und Freunde mit.\n\n WICHTI
 G: Da die Gedenkstätte planen muss\, wie groß die Gruppe wird und ob wi
 r einen oder zwei Führer*innen brauchen\, ist eine Anmeldung zwingend e
 rforderlich. \n\nBitte meldet euch bis spätestens 20.08.25 unter info@
 gruene-weiden.de.
CLASS:PUBLIC
DTSTART;TZID=Europe/Berlin:20250908T143000
DTEND;TZID=Europe/Berlin:20250908T163000
DTSTAMP:20260425T220303
END:VEVENT
END:VCALENDAR