BEGIN:VCALENDAR
VERSION:2.0
PRODID:gruene-oberpfalz.de
METHOD:PUBLISH
BEGIN:VTIMEZONE
TZID:Europe/Berlin
X-LIC-LOCATION:Europe/Berlin
BEGIN:DAYLIGHT
TZOFFSETFROM:+0100
TZOFFSETTO:+0200
TZNAME:CEST
DTSTART:19700329T020000
RRULE:FREQ=YEARLY;INTERVAL=1;BYDAY=-1SU;BYMONTH=3
END:DAYLIGHT
BEGIN:STANDARD
TZOFFSETFROM:+0200
TZOFFSETTO:+0100
TZNAME:CET
DTSTART:19701025T030000
RRULE:FREQ=YEARLY;INTERVAL=1;BYDAY=-1SU;BYMONTH=10
END:STANDARD
END:VTIMEZONE
BEGIN:VEVENT
UID:ae1827617af4d49e75ba6973f22b1189@gruene-oberpfalz.de
URL;VALUE=URI:https://gruene-oberpfalz.de/termine/1-mai-wanderung-der-gru
 enen-kastl/
LOCATION:ehemaliges Lauterach Café, Lauterach
SUMMARY:1. Mai-Wanderung der GRÜNEN Kastl
DESCRIPTION;ALTREP="data:text/html,%0A%3Cp%3ELiebe%20Freundinnen%20und%20
 Freunde%20der%20GR%C3%9CNEN%2C%3C%2Fp%3E%0A%0A%0A%0A%3Cp%3Eam%201.%20Mai%
 20werden%20wir%20wieder%20eine%20gemeinsame%20Wanderung%20machen.%3Cbr%3E
 Dieses%20Mal%20geht%20es%20erneut%20nach%20Reusch%2C%20wo%20es%20Kaffee%2
 C%20Kuchen%20und%20Getr%C3%A4nke%20gibt.%3C%2Fp%3E%0A%0A%0A%0A%3Cp%3E%3Cs
 trong%3ETreffpunkt%3A%26nbsp%3B%3C%2Fstrong%3E13%3A00%20Uhr%20am%20ehemal
 igen%20Lauterach%20Caf%C3%A9%20in%20der%20Ortschaft%20Lauterach.%26nbsp%3
 B%26nbsp%3B%3C%2Fp%3E%0A%0A%0A%0A%3Cp%3EVon%20dort%20wandern%20wir%20Rich
 tung%20Fl%C3%BCgelsbuch%20und%20erreichen%20voraussichtlich%20gegen%2015%
 3A00%20Uhr%20das%20Wirtshaus%20Reindl%20in%20Reusch.%3C%2Fp%3E%0A%0A%0A%0
 A%3Cp%3EF%C3%BCr%20Familien%20mit%20Kindern%20und%20die%2C%20die%20etwas%
 20weniger%20wandern%20wollen%2C%20bietet%20sich%20Fl%C3%BCgelsbuch%20ca%2
 014%3A15%20Uhr%20als%20guter%20Einstiegspunkt%20an%2C%20falls%20ihr%20nur
 %20einen%20Teil%20der%20Strecke%20mitgehen%20m%C3%B6chtet.%3C%2Fp%3E%0A%0
 A%0A%0A%3Cp%3EIch%20w%C3%BCrde%20mich%20sehr%20freuen%2C%20wenn%20wieder%
 20viele%20von%20euch%20dabei%20sind.%20Gebt%26nbsp%3B%3Ca%20href%3D%22htt
 ps%3A%2F%2Fgruene-amberg-sulzbach.de%2Fkontakt%2F%22%3Ehier%26nbsp%3B%3C%
 2Fa%3Ebitte%20kurz%20Bescheid%2C%20ob%20ihr%20kommt.%3C%2Fp%3E%0A%0A%0A%0
 A%3Cp%3EWer%20im%20Wirtshaus%20eine%20Brotzeit%20m%C3%B6chte%20%28Wurst%2
 0oder%20K%C3%A4se%29%2C%20sagt%20bitte%20ebenfalls%20vorher%20Bescheid%2C
 %20damit%20wir%20es%20anmelden%20k%C3%B6nnen.%3C%2Fp%3E%0A":Liebe Freundi
 nnen und Freunde der GRÜNEN\,\n\nam 1. Mai werden wir wieder eine gemein
 same Wanderung machen.Dieses Mal geht es erneut nach Reusch\, wo es Kaffe
 e\, Kuchen und Getränke gibt.\n\nTreffpunkt: 13:00 Uhr am ehemaligen La
 uterach Café in der Ortschaft Lauterach.  \n\nVon dort wandern wir Ric
 htung Flügelsbuch und erreichen voraussichtlich gegen 15:00 Uhr das Wirt
 shaus Reindl in Reusch.\n\nFür Familien mit Kindern und die\, die etwas 
 weniger wandern wollen\, bietet sich Flügelsbuch ca 14:15 Uhr als guter 
 Einstiegspunkt an\, falls ihr nur einen Teil der Strecke mitgehen möchte
 t.\n\nIch würde mich sehr freuen\, wenn wieder viele von euch dabei sind
 . Gebt hier bitte kurz Bescheid\, ob ihr kommt.\n\nWer im Wirtshaus ein
 e Brotzeit möchte (Wurst oder Käse)\, sagt bitte ebenfalls vorher Besch
 eid\, damit wir es anmelden können.
CLASS:PUBLIC
DTSTART;TZID=Europe/Berlin:20260501T130000
DTEND;TZID=Europe/Berlin:20260501T140000
DTSTAMP:20260419T115504
END:VEVENT
END:VCALENDAR